BEGIN:VCALENDAR
VERSION:2.0
PRODID:-//Catering at the Zoo - ECPv6.5.0.1//NONSGML v1.0//EN
CALSCALE:GREGORIAN
METHOD:PUBLISH
X-WR-CALNAME:Catering at the Zoo
X-ORIGINAL-URL:https://www.cateringatthezoo.org
X-WR-CALDESC:Events for Catering at the Zoo
REFRESH-INTERVAL;VALUE=DURATION:PT1H
X-Robots-Tag:noindex
X-PUBLISHED-TTL:PT1H
BEGIN:VTIMEZONE
TZID:America/New_York
BEGIN:DAYLIGHT
TZOFFSETFROM:-0500
TZOFFSETTO:-0400
TZNAME:EDT
DTSTART:20180311T070000
END:DAYLIGHT
BEGIN:STANDARD
TZOFFSETFROM:-0400
TZOFFSETTO:-0500
TZNAME:EST
DTSTART:20181104T060000
END:STANDARD
BEGIN:DAYLIGHT
TZOFFSETFROM:-0500
TZOFFSETTO:-0400
TZNAME:EDT
DTSTART:20190310T070000
END:DAYLIGHT
BEGIN:STANDARD
TZOFFSETFROM:-0400
TZOFFSETTO:-0500
TZNAME:EST
DTSTART:20191103T060000
END:STANDARD
END:VTIMEZONE
BEGIN:VEVENT
DTSTART;TZID=America/New_York:20191027T100000
DTEND;TZID=America/New_York:20191027T150000
DTSTAMP:20260425T215042
CREATED:20190930T150800Z
LAST-MODIFIED:20190930T150800Z
UID:4857-1572170400-1572188400@www.cateringatthezoo.org
SUMMARY:Zoo Boo
DESCRIPTION:Zoo Boo runs October 19\, 20\, 26 & 27! \nEnjoy Halloween fun in the daytime sun – it’s a Halloween party at the zoo! Come and trick-or-treat with the animals! The zoo will become a kid-friendly haunt with themed treats\, creepy-crawly animal encounters\, keeper talks\, games\, and temporary tattoos. This “kooky not spooky” events provides Halloween fun without fear. Wear your costumes and bring your treat bags! \nOnly members may purchase advance sale tickets. Members: $8 per child \n(regular zoo admission is free for members)\nPurchase tickets at the zoo\, online or call (315) 435-8511 x8589.\nNon-Members: $8 per child\, in addition to regular \nzoo admission. Non-members may only purchase \ntickets at the ticket booth on Zoo Boo days. \nReserve Today!
URL:https://www.cateringatthezoo.org/event/zoo-boo-oct-27-2019/
CATEGORIES:Zoo Boo,Zoo Events
ATTACH;FMTTYPE=image/jpeg:https://www.cateringatthezoo.org/wp-content/uploads/2018/09/Syracuse-Zoo-RGZ-Zoo-Boo-Event-Feature.jpg
END:VEVENT
BEGIN:VEVENT
DTSTART;TZID=America/New_York:20191026T100000
DTEND;TZID=America/New_York:20191026T150000
DTSTAMP:20260425T215042
CREATED:20190930T150709Z
LAST-MODIFIED:20190930T150709Z
UID:4855-1572084000-1572102000@www.cateringatthezoo.org
SUMMARY:Zoo Boo
DESCRIPTION:Zoo Boo runs October 19\, 20\, 26 & 27! \nEnjoy Halloween fun in the daytime sun – it’s a Halloween party at the zoo! Come and trick-or-treat with the animals! The zoo will become a kid-friendly haunt with themed treats\, creepy-crawly animal encounters\, keeper talks\, games\, and temporary tattoos. This “kooky not spooky” events provides Halloween fun without fear. Wear your costumes and bring your treat bags! \nOnly members may purchase advance sale tickets. Members: $8 per child \n(regular zoo admission is free for members)\nPurchase tickets at the zoo\, online or call (315) 435-8511 x8589.\nNon-Members: $8 per child\, in addition to regular \nzoo admission. Non-members may only purchase \ntickets at the ticket booth on Zoo Boo days. \nReserve Today!
URL:https://www.cateringatthezoo.org/event/zoo-boo-oct-26-2019/
CATEGORIES:Zoo Boo,Zoo Events
ATTACH;FMTTYPE=image/jpeg:https://www.cateringatthezoo.org/wp-content/uploads/2018/09/Syracuse-Zoo-RGZ-Zoo-Boo-Event-Feature.jpg
END:VEVENT
BEGIN:VEVENT
DTSTART;TZID=America/New_York:20191020T100000
DTEND;TZID=America/New_York:20191020T150000
DTSTAMP:20260425T215042
CREATED:20190930T150615Z
LAST-MODIFIED:20190930T150615Z
UID:4853-1571565600-1571583600@www.cateringatthezoo.org
SUMMARY:Zoo Boo
DESCRIPTION:Zoo Boo runs October 19\, 20\, 26 & 27! \nEnjoy Halloween fun in the daytime sun – it’s a Halloween party at the zoo! Come and trick-or-treat with the animals! The zoo will become a kid-friendly haunt with themed treats\, creepy-crawly animal encounters\, keeper talks\, games\, and temporary tattoos. This “kooky not spooky” events provides Halloween fun without fear. Wear your costumes and bring your treat bags! \nOnly members may purchase advance sale tickets. Members: $8 per child \n(regular zoo admission is free for members)\nPurchase tickets at the zoo\, online or call (315) 435-8511 x8589.\nNon-Members: $8 per child\, in addition to regular \nzoo admission. Non-members may only purchase \ntickets at the ticket booth on Zoo Boo days. \nReserve Today!
URL:https://www.cateringatthezoo.org/event/zoo-boo-oct-20-2019/
CATEGORIES:Zoo Boo,Zoo Events
ATTACH;FMTTYPE=image/jpeg:https://www.cateringatthezoo.org/wp-content/uploads/2018/09/Syracuse-Zoo-RGZ-Zoo-Boo-Event-Feature.jpg
END:VEVENT
BEGIN:VEVENT
DTSTART;TZID=America/New_York:20191019T100000
DTEND;TZID=America/New_York:20191019T150000
DTSTAMP:20260425T215042
CREATED:20190930T150344Z
LAST-MODIFIED:20190930T150509Z
UID:4851-1571479200-1571497200@www.cateringatthezoo.org
SUMMARY:Zoo Boo
DESCRIPTION:Zoo Boo runs October 19\, 20\, 26 & 27! \nEnjoy Halloween fun in the daytime sun – it’s a Halloween party at the zoo! Come and trick-or-treat with the animals! The zoo will become a kid-friendly haunt with themed treats\, creepy-crawly animal encounters\, keeper talks\, games\, and temporary tattoos. This “kooky not spooky” events provides Halloween fun without fear. Wear your costumes and bring your treat bags! \nOnly members may purchase advance sale tickets. Members: $8 per child \n(regular zoo admission is free for members)\nPurchase tickets at the zoo\, online or call (315) 435-8511 x8589.\nNon-Members: $8 per child\, in addition to regular \nzoo admission. Non-members may only purchase \ntickets at the ticket booth on Zoo Boo days. \nReserve Today!
URL:https://www.cateringatthezoo.org/event/zoo-boo-oct-19-2019/
CATEGORIES:Zoo Boo,Zoo Events
ATTACH;FMTTYPE=image/jpeg:https://www.cateringatthezoo.org/wp-content/uploads/2018/09/Syracuse-Zoo-RGZ-Zoo-Boo-Event-Feature.jpg
END:VEVENT
BEGIN:VEVENT
DTSTART;TZID=America/New_York:20190928T083000
DTEND;TZID=America/New_York:20190928T100000
DTSTAMP:20260425T215042
CREATED:20190820T155539Z
LAST-MODIFIED:20190820T155539Z
UID:4837-1569659400-1569664800@www.cateringatthezoo.org
SUMMARY:Syracuse Zoo Family Fun Run
DESCRIPTION:Join us for the zoo’s first family race on Saturday\, September 28. Families are encouraged to participate in the 2.5K (1.5 miles) child-friendly run/walk through a portion of Burnet Park and the zoo’s Wildlife Trail. The course will bring participants past animal exhibits and end in the zoo courtyard with cider and donuts\, music and giveaways – including free zoo admission for the day. Strollers are permitted on the course while four-legged friends are not. Wear an animal print on race day to be entered in a raffle for a special animal experience! \n\n\n\n\n\n\nRegistration:\n$20 per adult\n$15 per child ages 4-12\nFree for children 3 and under \nParticipants receive a free race T-shirt\, access to the post-race party and zoo admission.\nRegister by September 10\, 2019 to guarantee your free T-shirt. \n\n\n\n\nRegister Now\n\n\n\n\n\nProceeds support the Amur Leopard Project at the Rosamond Gifford Zoo. \nClick here for full details on the Syracuse Zoo Family Fun Run page
URL:https://www.cateringatthezoo.org/event/syracuse-zoo-family-fun-run/
CATEGORIES:Zoo Events
ATTACH;FMTTYPE=image/jpeg:https://www.cateringatthezoo.org/wp-content/uploads/2019/08/Syracuse-Zoo-RGZ-Family-Fun-Run-Event-Calendar.jpg
END:VEVENT
BEGIN:VEVENT
DTSTART;TZID=America/New_York:20190802T173000
DTEND;TZID=America/New_York:20190802T200000
DTSTAMP:20260425T215042
CREATED:20190711T163753Z
LAST-MODIFIED:20190730T163536Z
UID:4823-1564767000-1564776000@www.cateringatthezoo.org
SUMMARY:Brew at the Zoo & Wine\, Too!
DESCRIPTION:Join us for the biggest-ever Brew at the Zoo and Wine\, Too!\nBrew at the Zoo attracts more than 2\,000 guests for an evening of beer and wine\, wonderful food and entertainment in the most exciting setting – the zoo! More than 50 stations positioned around the zoo\, sampling beer\, wine\, cider\, and more — there’s something for everyone. Who knew that philanthropic endeavors could taste so good? \nAdvance sale: $55 per person\nAdvance group rate (6+): $50 per person\nAdvance sale ends Wednesday\, July 31. \nTickets $65 per person beginning Thursday\, August 1.\nVIP: $95 per person – SOLD OUT\nTickets required; click here to purchase\, \nby phone at (315) 435-8511 x8589 \nor purchase at the membership desk.\nAnyone under 21\, including infants and toddlers\, will not be admitted. \nVIP ticket holders get access to an exclusive reception at the zoo banquet room at 4 p.m. with food prepared by Catering at the Zoo\, open bar (beer and wine only)\, special VIP-only tastings\, early entry into Brew\, animal greets\, dedicated VIP comfort stations\, more. For questions about VIP tickets\, please call (315) 435-8511 x8518.
URL:https://www.cateringatthezoo.org/event/brew-at-the-zoo-wine-too/
CATEGORIES:Zoo Events
ATTACH;FMTTYPE=image/jpeg:https://www.cateringatthezoo.org/wp-content/uploads/2019/07/Syracuse-Zoo-RGZ-Brew-at-the-Zoo-2019.jpg
END:VEVENT
BEGIN:VEVENT
DTSTART;VALUE=DATE:20190421
DTEND;VALUE=DATE:20190422
DTSTAMP:20260425T215042
CREATED:20190102T180415Z
LAST-MODIFIED:20190415T145501Z
UID:1556-1555804800-1555891199@www.cateringatthezoo.org
SUMMARY:Easter Brunch
DESCRIPTION:We invite you to join us for a wildly unique Easter Sunday celebration. Indulge in our delicious brunch buffet along with a dessert table rich with pastries and a chocolate fountain as well as a Bloody Mary and mimosa bar. Our pint-sized guests will enjoy their very own buffet featuring items created just for them. \nRound out your day with a meet and mingle with our animal “ambassador” and enjoy free admission to the zoo. \nTickets: $34.95 adults\, $15.95 youth age 4-12 \nChildren 3 and under are free (must have a ticket and be included when making reservations). \nAdvance reservations required. \nSessions: \n\n\n\nTime\n \n\n\n10 a.m.-11:30 a.m.\nSOLD OUT\n\n\n1 p.m.-2:30 p.m.\nSOLD OUT\n\n\n\n 
URL:https://www.cateringatthezoo.org/event/easter-brunch/
CATEGORIES:Zoo Events
ATTACH;FMTTYPE=image/jpeg:https://www.cateringatthezoo.org/wp-content/uploads/2019/01/Syracuse-Zoo-RGZ-Easter-Brunch.jpg
END:VEVENT
BEGIN:VEVENT
DTSTART;VALUE=DATE:20190407
DTEND;VALUE=DATE:20190421
DTSTAMP:20260425T215042
CREATED:20190104T151607Z
LAST-MODIFIED:20190415T145705Z
UID:1599-1554595200-1555804799@www.cateringatthezoo.org
SUMMARY:Breakfast with the Bunny
DESCRIPTION:Breakfast with the Bunny\nSaturdays and Sundays\nApril 7\, 13\, 14\, and 20 | 9 a.m. and 11 a.m. \nCome visit the Easter Bunny at the zoo and enjoy a fun-filled morning of delicious food and activities. Bring your camera for a photo with our special guest! Ticket includes post-breakfast zoo admission. \nTickets: $15.95 members | $19.95 non-members \nChildren 2 and under are free (must have a ticket and be included when making reservations). \nPlease note: Multiple parties that would like to be seated together must either make one reservation for the group or submit a seating request at time of purchase in the comments field in the online reservation system. We will try our best to honor these requests! \nAdvance reservations required. \nSessions: \n\n\n\nDays\nTime\n \n\n\nSunday\, April 7\n9 a.m. – 10 a.m.\nSOLD OUT\n\n\nSunday\, April 7\n11 a.m. – Noon\nSOLD OUT\n\n\nSaturday\, April 13\n9 a.m. – 10 a.m.\nSOLD OUT\n\n\nSaturday\, April 13\n11 a.m. – Noon\nSOLD OUT\n\n\nSunday\, April 14\n9 a.m. – 10 a.m.\nSOLD OUT\n\n\nSunday\, April 14\n11 a.m. – Noon\nSOLD OUT\n\n\nSaturday\, April 20\n9 a.m. – 10 a.m.\nSOLD OUT\n\n\nSaturday\, April 20\n11 a.m. – Noon\nSOLD OUT\n\n\n\n 
URL:https://www.cateringatthezoo.org/event/breakfast-with-the-bunny-2019/
CATEGORIES:Zoo Events
ATTACH;FMTTYPE=image/jpeg:https://www.cateringatthezoo.org/wp-content/uploads/2019/01/Syracuse-Zoo-RGZ-Breakfast-with-the-Bunny.jpg
END:VEVENT
BEGIN:VEVENT
DTSTART;VALUE=DATE:20190323
DTEND;VALUE=DATE:20190324
DTSTAMP:20260425T215042
CREATED:20190102T175323Z
LAST-MODIFIED:20190109T163458Z
UID:1488-1553299200-1553385599@www.cateringatthezoo.org
SUMMARY:Mad Hatter Tea Party
DESCRIPTION:Follow the white rabbit to the zoo for a very special tea party with Alice and the Mad Hatter! Feast on fantastical finger foods\, fruits and pastries\, sip Fairytale Punch and select teas\, play flamingo croquet and join the Queen of Hearts and her magical soldiers for games! Meet one of our charming animal ambassadors\, too! Ticket includes zoo admission. \nTickets: $18 members | $20 non-members; \nChildren 2 and under are free (must have a ticket and be included when making reservations). \nAdvance reservations required. \nSessions: \n\n\n\nTime\n \n\n\n10 a.m.-11:30 a.m.\nReserve Now\n\n\n12:30 a.m.-2 p.m.\nReserve Now\n\n\n\n 
URL:https://www.cateringatthezoo.org/event/mad-hatter-tea-party-2019/
CATEGORIES:Zoo Events
ATTACH;FMTTYPE=image/jpeg:https://www.cateringatthezoo.org/wp-content/uploads/2019/01/Syracuse-Zoo-RGZ-Mad-Hatters-Tea-Party.jpg
END:VEVENT
BEGIN:VEVENT
DTSTART;TZID=America/New_York:20190208T183000
DTEND;TZID=America/New_York:20190208T230000
DTSTAMP:20260425T215042
CREATED:20181204T152408Z
LAST-MODIFIED:20190109T163603Z
UID:1415-1549650600-1549666800@www.cateringatthezoo.org
SUMMARY:Snow Leopard Soirée: Monte Carlo
DESCRIPTION:Honoring Al Gough\, Partner & CFO\, Brine Wells Companies\, LLC \n\n\nFriday\, February 8\, 2019\n6:30 p.m. – Cocktail reception and auction\n8 p.m. – Dinner and live auction\, followed by dessert stations and dancing \nFriends of the Zoo’s annual winter fundraiser and gala features gourmet dining\, entertainment\, live and silent auctions\, and animal greeters. Black tie attire and animal print are encouraged. Proceeds help benefit the zoo’s education programs\, which connect more than 150\,000 children and adults to the natural world. \nFor more information\, call (315) 435-8511 x8518 \n\n\n\n$220/person\, $1\,750/table of eight; reservations required.\n\nReserve Now \n  \nMOBILE BIDDING\nSnow Leopard Soirée will again have mobile bidding on all silent auction items! All bidding will be done through your own cell phone. No scrambling to see the bid sheets at the end of the auction – you can now bid from anywhere\, anytime before the close of the auction right from your own phone. You’ll even get an update if you are outbid! \nTo Register Click Here
URL:https://www.cateringatthezoo.org/event/snow-leopard-soiree-monte-carlo/
CATEGORIES:Zoo Events
ATTACH;FMTTYPE=image/jpeg:https://www.cateringatthezoo.org/wp-content/uploads/2019/01/Syracuse-Zoo-RGZ-Snow-Leopard-Soiree-Monte-Carlo.jpg
END:VEVENT
BEGIN:VEVENT
DTSTART;TZID=America/New_York:20190119T120000
DTEND;TZID=America/New_York:20190119T150000
DTSTAMP:20260425T215042
CREATED:20190110T164010Z
LAST-MODIFIED:20190110T165205Z
UID:4704-1547899200-1547910000@www.cateringatthezoo.org
SUMMARY:Wedding Open House
DESCRIPTION:Newly engaged? Come to our open house and see why Catering at the Zoo has earned WeddingWire’s Couples’ Choice Award for 2019! Enjoy light refreshments\, meet the team and tour our facilities.
URL:https://www.cateringatthezoo.org/event/wedding-open-house-2019/
CATEGORIES:Zoo Events
ATTACH;FMTTYPE=image/jpeg:https://www.cateringatthezoo.org/wp-content/uploads/2018/04/syracuse-zoo-wedding-heckathorne-2.jpg
END:VEVENT
BEGIN:VEVENT
DTSTART;TZID=America/New_York:20181231T100000
DTEND;TZID=America/New_York:20181231T120000
DTSTAMP:20260425T215042
CREATED:20181015T131339Z
LAST-MODIFIED:20181015T131339Z
UID:1223-1546250400-1546257600@www.cateringatthezoo.org
SUMMARY:Noon Year's Eve
DESCRIPTION:Come ring in the “noon” year at the zoo with entertainment\, a dance party and New Year’s celebration that keeps bed-time in mind – complete with countdown at noon. Free goodie bags for the first 500 kids! \n  \n2017 Noon Year’s Eve\n[Best_Wordpress_Gallery id=”12″]
URL:https://www.cateringatthezoo.org/event/noon-years-eve/
CATEGORIES:Zoo Events
ATTACH;FMTTYPE=:
END:VEVENT
END:VCALENDAR