BEGIN:VCALENDAR
VERSION:2.0
PRODID:-//Catering at the Zoo - ECPv6.5.0.1//NONSGML v1.0//EN
CALSCALE:GREGORIAN
METHOD:PUBLISH
X-ORIGINAL-URL:https://www.cateringatthezoo.org
X-WR-CALDESC:Events for Catering at the Zoo
REFRESH-INTERVAL;VALUE=DURATION:PT1H
X-Robots-Tag:noindex
X-PUBLISHED-TTL:PT1H
BEGIN:VTIMEZONE
TZID:America/New_York
BEGIN:DAYLIGHT
TZOFFSETFROM:-0500
TZOFFSETTO:-0400
TZNAME:EDT
DTSTART:20220313T070000
END:DAYLIGHT
BEGIN:STANDARD
TZOFFSETFROM:-0400
TZOFFSETTO:-0500
TZNAME:EST
DTSTART:20221106T060000
END:STANDARD
END:VTIMEZONE
BEGIN:VEVENT
DTSTART;VALUE=DATE:20220403
DTEND;VALUE=DATE:20220411
DTSTAMP:20260420T162217
CREATED:20220131T142707Z
LAST-MODIFIED:20220311T161036Z
UID:5839-1648944000-1649635199@www.cateringatthezoo.org
SUMMARY:Breakfast with the Bunny - SOLD OUT
DESCRIPTION: 								\n				\n					\n		\n					\n		\n				\n						\n					\n			\n						\n				\n									Breakfast with the BunnySunday April 3 and 10 | 9 a.m.\, 11 a.m. Come visit the Easter Bunny at the zoo and enjoy a fun-filled morning of delicious food and activities. Bring your camera for a photo with our special guest! Ticket includes post-breakfast zoo admission. Please note: Multiple parties that would like to be seated together must either make one reservation for the group or submit a seating request at time of purchase in the comments field in the online reservation system. We will try our best to honor these requests! Members: Adult $17.95 | Children (Ages 3-12) $8.95SOLD OUT Non-Members: Adult $20.95 | Children (Ages 3-12) $11.95SOLD OUT(Non-Member ticket sales open February 18) Children 2 and under are free (must have a ticket and be included when making reservations). Menu Raspberry cream cheese French toastScrambled eggsBaconSausageHome fries with peppers and onionsAssorted Danish and pastriesFresh cut fruit saladJuiceCoffee
URL:https://www.cateringatthezoo.org/event/breakfast-with-the-bunny-2022/
LOCATION:Rosamond Gifford Zoo\, One Conservation Place\, Syracuse\, NY\, 13204\, United States
CATEGORIES:Zoo Events
ATTACH;FMTTYPE=image/jpeg:https://www.cateringatthezoo.org/wp-content/uploads/2022/01/Syracuse-Zoo-RGZ-FOTZ-Breakfast-with-the-Bunny-Header-Image.jpg
END:VEVENT
END:VCALENDAR