BEGIN:VCALENDAR
VERSION:2.0
PRODID:-//Catering at the Zoo - ECPv6.5.0.1//NONSGML v1.0//EN
CALSCALE:GREGORIAN
METHOD:PUBLISH
X-ORIGINAL-URL:https://www.cateringatthezoo.org
X-WR-CALDESC:Events for Catering at the Zoo
REFRESH-INTERVAL;VALUE=DURATION:PT1H
X-Robots-Tag:noindex
X-PUBLISHED-TTL:PT1H
BEGIN:VTIMEZONE
TZID:America/New_York
BEGIN:DAYLIGHT
TZOFFSETFROM:-0500
TZOFFSETTO:-0400
TZNAME:EDT
DTSTART:20230312T070000
END:DAYLIGHT
BEGIN:STANDARD
TZOFFSETFROM:-0400
TZOFFSETTO:-0500
TZNAME:EST
DTSTART:20231105T060000
END:STANDARD
END:VTIMEZONE
BEGIN:VEVENT
DTSTART;VALUE=DATE:20230409
DTEND;VALUE=DATE:20230410
DTSTAMP:20260421T071539
CREATED:20221221T172552Z
LAST-MODIFIED:20230210T205241Z
UID:6714-1680998400-1681084799@www.cateringatthezoo.org
SUMMARY:Easter Brunch
DESCRIPTION:SAVE THE DATE! Easter Brunch | Sunday\, April 9 Join us for a wildly unique Easter Sunday celebration. Stay tuned to our website and social media for updates! Members: Adult $32.95 | Children (Ages 3-12) $15.95 RESERVE NOW Non-Members: Adult $35.95 | Children (Ages 3-12) $18.95 RESERVE: Non-member tickets available 2/13/23 Children 2 and under are free (must have a ticket and be included when making reservations). Additional details: Please be advised that seating will be set family style. You may be seated with another party. If you are traveling with a large party\, not reserved under the same name(s)\, please contact us at events@rosamondgiffordzoo.org to ensure reserved seating together.
URL:https://www.cateringatthezoo.org/event/easter-brunch-2023/
LOCATION:Rosamond Gifford Zoo\, One Conservation Place\, Syracuse\, NY\, 13204\, United States
CATEGORIES:Zoo Events
ATTACH;FMTTYPE=image/jpeg:https://www.cateringatthezoo.org/wp-content/uploads/2019/01/Syracuse-Zoo-RGZ-Easter-Brunch.jpg
END:VEVENT
END:VCALENDAR